BEGIN:VCALENDAR
VERSION:2.0
PRODID:-//National Network of Immunization Coalitions - ECPv6.15.18//NONSGML v1.0//EN
CALSCALE:GREGORIAN
METHOD:PUBLISH
X-WR-CALNAME:National Network of Immunization Coalitions
X-ORIGINAL-URL:https://www.immunizationcoalitions.org
X-WR-CALDESC:Events for National Network of Immunization Coalitions
REFRESH-INTERVAL;VALUE=DURATION:PT1H
X-Robots-Tag:noindex
X-PUBLISHED-TTL:PT1H
BEGIN:VTIMEZONE
TZID:America/New_York
BEGIN:DAYLIGHT
TZOFFSETFROM:-0500
TZOFFSETTO:-0400
TZNAME:EDT
DTSTART:20220313T070000
END:DAYLIGHT
BEGIN:STANDARD
TZOFFSETFROM:-0400
TZOFFSETTO:-0500
TZNAME:EST
DTSTART:20221106T060000
END:STANDARD
BEGIN:DAYLIGHT
TZOFFSETFROM:-0500
TZOFFSETTO:-0400
TZNAME:EDT
DTSTART:20230312T070000
END:DAYLIGHT
BEGIN:STANDARD
TZOFFSETFROM:-0400
TZOFFSETTO:-0500
TZNAME:EST
DTSTART:20231105T060000
END:STANDARD
BEGIN:DAYLIGHT
TZOFFSETFROM:-0500
TZOFFSETTO:-0400
TZNAME:EDT
DTSTART:20240310T070000
END:DAYLIGHT
BEGIN:STANDARD
TZOFFSETFROM:-0400
TZOFFSETTO:-0500
TZNAME:EST
DTSTART:20241103T060000
END:STANDARD
END:VTIMEZONE
BEGIN:VEVENT
DTSTART;TZID=America/New_York:20230731T160000
DTEND;TZID=America/New_York:20230731T170000
DTSTAMP:20260422T181259
CREATED:20230718T203527Z
LAST-MODIFIED:20230718T203527Z
UID:6855-1690819200-1690822800@www.immunizationcoalitions.org
SUMMARY:Hepatitis B Virus and Vaccine: Prevention\, Treatment and Clinical Recommendations
DESCRIPTION:In this webinar\, Chari Cohen\, DrPH\, MPH\, President of Hepatitis B Foundation\, will discuss the epidemiology of the Hepatitis B virus and the clinical recommendations for the Hepatitis B vaccine. This session will also orient attendees to Hepatitis B vaccine resources for patients and healthcare providers. \nUpon completion\, attendees will be able to: \n\nDiscuss Hepatitis B vaccine clinical recommendations for children and adults\nIdentify Hepatitis B vaccine educational resources for patients and health care providers\nUnderstand how the Hepatitis B vaccine is transmitted and the risk factors for transmission\n\nLearn more about VaxWell NH Coalition at www.vaxwellnh.org.
URL:https://www.immunizationcoalitions.org/event/hepatitis-b-virus-and-vaccine-prevention-treatment-and-clinical-recommendations/
CATEGORIES:NHPHA
ATTACH;FMTTYPE=image/jpeg:https://www.immunizationcoalitions.org/content/uploads/2023/07/vaxwell-nh-logos.jpg
END:VEVENT
END:VCALENDAR