BEGIN:VCALENDAR
VERSION:2.0
PRODID:-//National Network of Immunization Coalitions - ECPv6.15.18//NONSGML v1.0//EN
CALSCALE:GREGORIAN
METHOD:PUBLISH
X-WR-CALNAME:National Network of Immunization Coalitions
X-ORIGINAL-URL:https://www.immunizationcoalitions.org
X-WR-CALDESC:Events for National Network of Immunization Coalitions
REFRESH-INTERVAL;VALUE=DURATION:PT1H
X-Robots-Tag:noindex
X-PUBLISHED-TTL:PT1H
BEGIN:VTIMEZONE
TZID:America/Chicago
BEGIN:DAYLIGHT
TZOFFSETFROM:-0600
TZOFFSETTO:-0500
TZNAME:CDT
DTSTART:20220313T080000
END:DAYLIGHT
BEGIN:STANDARD
TZOFFSETFROM:-0500
TZOFFSETTO:-0600
TZNAME:CST
DTSTART:20221106T070000
END:STANDARD
BEGIN:DAYLIGHT
TZOFFSETFROM:-0600
TZOFFSETTO:-0500
TZNAME:CDT
DTSTART:20230312T080000
END:DAYLIGHT
BEGIN:STANDARD
TZOFFSETFROM:-0500
TZOFFSETTO:-0600
TZNAME:CST
DTSTART:20231105T070000
END:STANDARD
BEGIN:DAYLIGHT
TZOFFSETFROM:-0600
TZOFFSETTO:-0500
TZNAME:CDT
DTSTART:20240310T080000
END:DAYLIGHT
BEGIN:STANDARD
TZOFFSETFROM:-0500
TZOFFSETTO:-0600
TZNAME:CST
DTSTART:20241103T070000
END:STANDARD
END:VTIMEZONE
BEGIN:VEVENT
DTSTART;VALUE=DATE:20230719
DTEND;VALUE=DATE:20230722
DTSTAMP:20260422T185127
CREATED:20230613T225240Z
LAST-MODIFIED:20230613T225240Z
UID:6652-1689724800-1689983999@www.immunizationcoalitions.org
SUMMARY:National Conference on Health Communication\, Marketing & Media
DESCRIPTION:From the event website: \nNCHCMM welcomes health communications students and professionals from state and federal government agencies\, non-profit organizations\, and industry.
URL:https://www.immunizationcoalitions.org/event/national-conference-on-health-communication-marketing-media/
CATEGORIES:NPHIC
ATTACH;FMTTYPE=image/webp:https://www.immunizationcoalitions.org/content/uploads/2023/06/NPHIC-Logo-Color-89feeca2.webp
ORGANIZER;CN="NPHIC":MAILTO:nchcmm@nphic.org
END:VEVENT
END:VCALENDAR