BEGIN:VCALENDAR
VERSION:2.0
PRODID:-//National Network of Immunization Coalitions - ECPv6.15.18//NONSGML v1.0//EN
CALSCALE:GREGORIAN
METHOD:PUBLISH
X-ORIGINAL-URL:https://www.immunizationcoalitions.org
X-WR-CALDESC:Events for National Network of Immunization Coalitions
REFRESH-INTERVAL;VALUE=DURATION:PT1H
X-Robots-Tag:noindex
X-PUBLISHED-TTL:PT1H
BEGIN:VTIMEZONE
TZID:America/Los_Angeles
BEGIN:DAYLIGHT
TZOFFSETFROM:-0800
TZOFFSETTO:-0700
TZNAME:PDT
DTSTART:20220313T100000
END:DAYLIGHT
BEGIN:STANDARD
TZOFFSETFROM:-0700
TZOFFSETTO:-0800
TZNAME:PST
DTSTART:20221106T090000
END:STANDARD
BEGIN:DAYLIGHT
TZOFFSETFROM:-0800
TZOFFSETTO:-0700
TZNAME:PDT
DTSTART:20230312T100000
END:DAYLIGHT
BEGIN:STANDARD
TZOFFSETFROM:-0700
TZOFFSETTO:-0800
TZNAME:PST
DTSTART:20231105T090000
END:STANDARD
BEGIN:DAYLIGHT
TZOFFSETFROM:-0800
TZOFFSETTO:-0700
TZNAME:PDT
DTSTART:20240310T100000
END:DAYLIGHT
BEGIN:STANDARD
TZOFFSETFROM:-0700
TZOFFSETTO:-0800
TZNAME:PST
DTSTART:20241103T090000
END:STANDARD
END:VTIMEZONE
BEGIN:VEVENT
DTSTART;TZID=America/Los_Angeles:20230808T080000
DTEND;TZID=America/Los_Angeles:20230808T170000
DTSTAMP:20260422T185450
CREATED:20230717T212527Z
LAST-MODIFIED:20230717T212618Z
UID:6840-1691481600-1691514000@www.immunizationcoalitions.org
SUMMARY:Northwest Immunization Conference (NWIC) 2023
DESCRIPTION:Expert speakers will discuss strategies to address vaccine hesitancy\, further the discussion around immunizations in the community\, and review vaccine-specific updates. \nThe curriculum is designed for a diverse field of health professionals\, including immunization providers\, public health advocates\, epidemiologists\, students of nursing and medical professions\, and program managers seeking a comprehensive knowledge of immunizations. \nNWIC 2023 will be hosted in Wilsonville\, Oregon with a virtual option offered.
URL:https://www.immunizationcoalitions.org/event/northwest-immunization-conference-nwic-2023/
LOCATION:Holiday Inn Portland South\, 25425 SW 95th Avenue\, Wilsonville\, OR\, 97070\, United States
CATEGORIES:NWIC
ATTACH;FMTTYPE=image/jpeg:https://www.immunizationcoalitions.org/content/uploads/2023/07/immunize-oregon-logo.jpg
END:VEVENT
END:VCALENDAR